BEGIN:VCALENDAR
VERSION:2.0
PRODID:-//Casual Friday Wines - ECPv6.15.20//NONSGML v1.0//EN
CALSCALE:GREGORIAN
METHOD:PUBLISH
X-WR-CALNAME:Casual Friday Wines
X-ORIGINAL-URL:https://casualfridaywines.com
X-WR-CALDESC:Events for Casual Friday Wines
REFRESH-INTERVAL;VALUE=DURATION:PT1H
X-Robots-Tag:noindex
X-PUBLISHED-TTL:PT1H
BEGIN:VTIMEZONE
TZID:America/Chicago
BEGIN:DAYLIGHT
TZOFFSETFROM:-0600
TZOFFSETTO:-0500
TZNAME:CDT
DTSTART:20230312T080000
END:DAYLIGHT
BEGIN:STANDARD
TZOFFSETFROM:-0500
TZOFFSETTO:-0600
TZNAME:CST
DTSTART:20231105T070000
END:STANDARD
BEGIN:DAYLIGHT
TZOFFSETFROM:-0600
TZOFFSETTO:-0500
TZNAME:CDT
DTSTART:20240310T080000
END:DAYLIGHT
BEGIN:STANDARD
TZOFFSETFROM:-0500
TZOFFSETTO:-0600
TZNAME:CST
DTSTART:20241103T070000
END:STANDARD
BEGIN:DAYLIGHT
TZOFFSETFROM:-0600
TZOFFSETTO:-0500
TZNAME:CDT
DTSTART:20250309T080000
END:DAYLIGHT
BEGIN:STANDARD
TZOFFSETFROM:-0500
TZOFFSETTO:-0600
TZNAME:CST
DTSTART:20251102T070000
END:STANDARD
BEGIN:DAYLIGHT
TZOFFSETFROM:-0600
TZOFFSETTO:-0500
TZNAME:CDT
DTSTART:20260308T080000
END:DAYLIGHT
BEGIN:STANDARD
TZOFFSETFROM:-0500
TZOFFSETTO:-0600
TZNAME:CST
DTSTART:20261101T070000
END:STANDARD
END:VTIMEZONE
BEGIN:VEVENT
DTSTART;TZID=America/Chicago:20250308T180000
DTEND;TZID=America/Chicago:20250308T200000
DTSTAMP:20260425T194210
CREATED:20250218T165529Z
LAST-MODIFIED:20250218T165540Z
UID:9206-1741456800-1741464000@casualfridaywines.com
SUMMARY:Trivia
DESCRIPTION:
URL:https://casualfridaywines.com/event/trivia/
END:VEVENT
BEGIN:VEVENT
DTSTART;TZID=America/Chicago:20250305T180000
DTEND;TZID=America/Chicago:20250305T200000
DTSTAMP:20260425T194210
CREATED:20250218T165714Z
LAST-MODIFIED:20250218T165727Z
UID:9210-1741197600-1741204800@casualfridaywines.com
SUMMARY:On the Hook Fish & Chips Food Truck
DESCRIPTION:
URL:https://casualfridaywines.com/event/on-the-hook-fish-chips-food-truck/
END:VEVENT
BEGIN:VEVENT
DTSTART;TZID=America/Chicago:20250302T120000
DTEND;TZID=America/Chicago:20250302T170000
DTSTAMP:20260425T194210
CREATED:20250218T165229Z
LAST-MODIFIED:20250218T165229Z
UID:9200-1740916800-1740934800@casualfridaywines.com
SUMMARY:Wine Club Pick Up
DESCRIPTION:
URL:https://casualfridaywines.com/event/wine-club-pick-up-2/
END:VEVENT
BEGIN:VEVENT
DTSTART;TZID=America/Chicago:20250301T180000
DTEND;TZID=America/Chicago:20250301T200000
DTSTAMP:20260425T194210
CREATED:20250218T165257Z
LAST-MODIFIED:20250218T165507Z
UID:9202-1740852000-1740859200@casualfridaywines.com
SUMMARY:Music Bingo
DESCRIPTION:
URL:https://casualfridaywines.com/event/music-bingo-3/
END:VEVENT
BEGIN:VEVENT
DTSTART;VALUE=DATE:20250214
DTEND;VALUE=DATE:20250215
DTSTAMP:20260425T194210
CREATED:20250121T202338Z
LAST-MODIFIED:20250212T211912Z
UID:9094-1739491200-1739577599@casualfridaywines.com
SUMMARY:Valentine's Day Dinner
DESCRIPTION:Love is in the air this Valentine’s Day! Treat your special someone to a romantic dinner at the winery.  All you need is Love & Wine!\n$25 per person includes your choice of entree*\, bread and tea.\n*Entree choices:  Pork Tenderloin or Trout Almondine with Garlic Mashed Potatoes and Sweet Chili Roasted Brussels Sprouts.\nPurchase tickets here\, then call 817-313-0245 (Robbie’s cell) to reserve a time slot and entree choices.\n\n  \n 
URL:https://casualfridaywines.com/event/valentine-dinner/
END:VEVENT
BEGIN:VEVENT
DTSTART;TZID=America/Chicago:20250208T140000
DTEND;TZID=America/Chicago:20250208T160000
DTSTAMP:20260425T194210
CREATED:20241231T171814Z
LAST-MODIFIED:20250207T213059Z
UID:9041-1739023200-1739030400@casualfridaywines.com
SUMMARY:Valentine Themed Painting Class
DESCRIPTION:Choose one from options above and add it to the Additional Information “Order notes” field when purchasing ticket. One canvas\, paints\, materials and one glass of wine included with ticket.
URL:https://casualfridaywines.com/event/valentine-painting-class/
END:VEVENT
BEGIN:VEVENT
DTSTART;TZID=America/Chicago:20250201T180000
DTEND;TZID=America/Chicago:20250201T200000
DTSTAMP:20260425T194210
CREATED:20241231T165818Z
LAST-MODIFIED:20241231T172911Z
UID:9032-1738432800-1738440000@casualfridaywines.com
SUMMARY:Music Bingo
DESCRIPTION:Bring your family and friends for an entertaining evening of fun! Test your music knowledge with an evening full of laughter\, fun and prizes\, blending the excitement of Bingo with the love of music.
URL:https://casualfridaywines.com/event/music-bingo-2/
END:VEVENT
BEGIN:VEVENT
DTSTART;TZID=America/Chicago:20250201T130000
DTEND;TZID=America/Chicago:20250201T210000
DTSTAMP:20260425T194210
CREATED:20241231T170141Z
LAST-MODIFIED:20241231T173215Z
UID:9034-1738414800-1738443600@casualfridaywines.com
SUMMARY:Winery Anniversary Party
DESCRIPTION:Enjoy $5 glasses of wine all day to celebrate this special day! Sip\, sip\, hooray! \nCheers to 4 years at our current location!
URL:https://casualfridaywines.com/event/winery-anniversary-party-2/
END:VEVENT
BEGIN:VEVENT
DTSTART;TZID=America/Chicago:20250118T180000
DTEND;TZID=America/Chicago:20250118T200000
DTSTAMP:20260425T194210
CREATED:20241231T165703Z
LAST-MODIFIED:20241231T173000Z
UID:9030-1737223200-1737230400@casualfridaywines.com
SUMMARY:Music Bingo
DESCRIPTION:Bring your family and friends for an entertaining evening of fun! Test your music knowledge with an evening full of laughter\, fun and prizes\, blending the excitement of Bingo with the love of music.
URL:https://casualfridaywines.com/event/music-bingo/
END:VEVENT
BEGIN:VEVENT
DTSTART;TZID=America/Chicago:20250111T170000
DTEND;TZID=America/Chicago:20250111T210000
DTSTAMP:20260425T194210
CREATED:20241231T163822Z
LAST-MODIFIED:20241231T163851Z
UID:9028-1736614800-1736629200@casualfridaywines.com
SUMMARY:Firepit Fun & S'mores
DESCRIPTION:Crackling flames\, starry skies\, good company and s’mores! Add some spark to your evening and relax by the fire with a glass or bottle of your favorite Casual Friday or Cattlebaron wine. \nS’mores kits available for $1 each.
URL:https://casualfridaywines.com/event/firepit-fun-smores/
END:VEVENT
BEGIN:VEVENT
DTSTART;TZID=America/Chicago:20241129T190000
DTEND;TZID=America/Chicago:20241129T220000
DTSTAMP:20260425T194210
CREATED:20241112T163109Z
LAST-MODIFIED:20241112T163109Z
UID:9004-1732906800-1732917600@casualfridaywines.com
SUMMARY:Live Music - Mac Tucker & Rachel Santiago from Eagle Mountain Band
DESCRIPTION:
URL:https://casualfridaywines.com/event/live-music-mac-tucker-rachel-santiago-from-eagle-mountain-band/
END:VEVENT
BEGIN:VEVENT
DTSTART;TZID=America/Chicago:20241123T130000
DTEND;TZID=America/Chicago:20241123T183000
DTSTAMP:20260425T194210
CREATED:20241015T145030Z
LAST-MODIFIED:20241119T152832Z
UID:8905-1732366800-1732386600@casualfridaywines.com
SUMMARY:Christmas Bazaar Vendor Forms
DESCRIPTION:Covered spaces on the deck\, includes electricity.  Bring your own table\, table coverings\, displays and additional lighting.  Two chairs provided.  We have a limited number of 6′ x 30″ tables to rent for $10. $5 glasses of wine will be offered during the event.
URL:https://casualfridaywines.com/event/holiday-market-vendor-forms/
END:VEVENT
BEGIN:VEVENT
DTSTART;TZID=America/Chicago:20241123T130000
DTEND;TZID=America/Chicago:20241123T180000
DTSTAMP:20260425T194210
CREATED:20241015T143353Z
LAST-MODIFIED:20241029T153453Z
UID:8903-1732366800-1732384800@casualfridaywines.com
SUMMARY:Christmas Bazaar Sip & Shop
DESCRIPTION:Enjoy $5 glasses of wine while you sip and shop for that special someone\, coworker\, friends and family
URL:https://casualfridaywines.com/event/holiday-market-sip-shop/
END:VEVENT
BEGIN:VEVENT
DTSTART;TZID=America/Chicago:20241122T190000
DTEND;TZID=America/Chicago:20241122T220000
DTSTAMP:20260425T194210
CREATED:20241112T163022Z
LAST-MODIFIED:20241112T163022Z
UID:9002-1732302000-1732312800@casualfridaywines.com
SUMMARY:Live Music - Rusty Rayborn & Jim Martin
DESCRIPTION:
URL:https://casualfridaywines.com/event/live-music-rusty-rayborn-jim-martin/
END:VEVENT
BEGIN:VEVENT
DTSTART;TZID=America/Chicago:20241117T140000
DTEND;TZID=America/Chicago:20241117T160000
DTSTAMP:20260425T194210
CREATED:20241108T152408Z
LAST-MODIFIED:20241112T155934Z
UID:8980-1731852000-1731859200@casualfridaywines.com
SUMMARY:Thanksgiving Cookie Decorating Class by The Sugar Shack
DESCRIPTION:WHAT THE CLASS INCLUDES:\nThis will be a 2 hour instruction-led cookie decorating class. Each person will receive 9 freshly baked sugar cookies\, freshly made Royal icing\, instructional template\, all class supplies\, freshly baked pre-decorated cookie to snack on during class\, and a window box to package your creations up to take home. We will be working on floating\, detailing\, wet on wet\, transfers\, and segmenting. The cookies we will be decorating will be 2 Maple leaves\, 2 Sage leaves\, “Happy Thanksgiving” plaque\, “Thankful” plaque\, segmented pumpkin w/ name tag\, segmented wet-on-wet design pumpkin\, and pumpkin pie. Payment is due upon registration (preferably Venmo). Limited seats are available so please register ASAP to secure your spot.\n\nCome join us for a fun afternoon with cookies and wine! $65 – Register on Facebook @TheSugarShack
URL:https://casualfridaywines.com/event/thanksgiving-cookie-decorating-class/
END:VEVENT
BEGIN:VEVENT
DTSTART;TZID=America/Chicago:20241115T190000
DTEND;TZID=America/Chicago:20241115T220000
DTSTAMP:20260425T194210
CREATED:20241112T162945Z
LAST-MODIFIED:20241112T162945Z
UID:9000-1731697200-1731708000@casualfridaywines.com
SUMMARY:Live Music - Steve Selinsky
DESCRIPTION:
URL:https://casualfridaywines.com/event/live-music-steve-selinsky/
END:VEVENT
BEGIN:VEVENT
DTSTART;TZID=America/Chicago:20241108T190000
DTEND;TZID=America/Chicago:20241108T220000
DTSTAMP:20260425T194210
CREATED:20241029T153755Z
LAST-MODIFIED:20241029T153755Z
UID:8969-1731092400-1731103200@casualfridaywines.com
SUMMARY:Live Music - Mac Tucker & Rachel Santiago from the Eagle Mountain Band
DESCRIPTION:
URL:https://casualfridaywines.com/event/live-music-mac-tucker-rachel-santiago-from-the-eagle-mountain-band/
END:VEVENT
BEGIN:VEVENT
DTSTART;TZID=America/Chicago:20241101T190000
DTEND;TZID=America/Chicago:20241101T220000
DTSTAMP:20260425T194210
CREATED:20241029T153617Z
LAST-MODIFIED:20241029T153653Z
UID:8967-1730487600-1730498400@casualfridaywines.com
SUMMARY:Live Music - Skylark Duo
DESCRIPTION:
URL:https://casualfridaywines.com/event/live-music-skylark-duo-3/
END:VEVENT
BEGIN:VEVENT
DTSTART;TZID=America/Chicago:20241030T170000
DTEND;TZID=America/Chicago:20241030T200000
DTSTAMP:20260425T194210
CREATED:20240924T172427Z
LAST-MODIFIED:20240924T172445Z
UID:8843-1730307600-1730318400@casualfridaywines.com
SUMMARY:Barktoberfest
DESCRIPTION:Dress up Fido and join us for the 4th Annual dog costume contest! Humans are encouraged to dress up too! \nOn the Hook Fish & Chips food truck will be here 5-7:30 pm
URL:https://casualfridaywines.com/event/barktoberfest/
END:VEVENT
BEGIN:VEVENT
DTSTART;TZID=America/Chicago:20241030T170000
DTEND;TZID=America/Chicago:20241030T193000
DTSTAMP:20260425T194210
CREATED:20240924T172237Z
LAST-MODIFIED:20240924T172237Z
UID:8841-1730307600-1730316600@casualfridaywines.com
SUMMARY:Food Truck - On the Hook Fish & Chips
DESCRIPTION:
URL:https://casualfridaywines.com/event/food-truck-on-the-hook-fish-chips/
END:VEVENT
BEGIN:VEVENT
DTSTART;TZID=America/Chicago:20241028T100000
DTEND;TZID=America/Chicago:20241028T190000
DTSTAMP:20260425T194210
CREATED:20241015T141313Z
LAST-MODIFIED:20241015T141513Z
UID:8891-1730109600-1730142000@casualfridaywines.com
SUMMARY:Harvest Moon Festival of the Arts & Wine Stroll - Granbury\, TX
DESCRIPTION:The well-known North Texas art festival celebrates 45 years of the best of fine art with 100+ artists coming from all over the country. In addition to street gallery booths\, you’ll find unique food options\, a Wine Stroll\, Live Entertainment and the Children’s Creation area surrounded by the most vibrant and beautiful historic downtown square in Texas. “Best Historic Small Town” and the official “Celebration Capital of Texas!” \nNo entry fee \nFree parking
URL:https://casualfridaywines.com/event/harvest-moon-festival-of-the-arts-granbury-tx/
END:VEVENT
BEGIN:VEVENT
DTSTART;TZID=America/Chicago:20241026T100000
DTEND;TZID=America/Chicago:20241026T160000
DTSTAMP:20260425T194210
CREATED:20241015T141430Z
LAST-MODIFIED:20241029T154004Z
UID:8893-1729936800-1729958400@casualfridaywines.com
SUMMARY:Harvest Moon Festival of the Arts & Wine Stroll - Granbury\, TX
DESCRIPTION:The well-known North Texas art festival celebrates 45 years of the best of fine art with 100+ artists coming from all over the country. In addition to street gallery booths\, you’ll find unique food options\, a Wine Stroll\, Live Entertainment and the Children’s Creation area surrounded by the most vibrant and beautiful historic downtown square in Texas. “Best Historic Small Town” and the official “Celebration Capital of Texas!” \nNo entry fee \nFree parking
URL:https://casualfridaywines.com/event/harvest-moon-festival-of-the-arts-wine-stroll-granbury-tx/
END:VEVENT
BEGIN:VEVENT
DTSTART;TZID=America/Chicago:20241025T190000
DTEND;TZID=America/Chicago:20241025T220000
DTSTAMP:20260425T194210
CREATED:20240924T173138Z
LAST-MODIFIED:20240924T173145Z
UID:8852-1729882800-1729893600@casualfridaywines.com
SUMMARY:Live Music - Aurora Bleu
DESCRIPTION:
URL:https://casualfridaywines.com/event/live-music-aurora-bleu-4/
END:VEVENT
BEGIN:VEVENT
DTSTART;TZID=America/Chicago:20241023T190000
DTEND;TZID=America/Chicago:20241023T210000
DTSTAMP:20260425T194210
CREATED:20240924T170856Z
LAST-MODIFIED:20241021T194703Z
UID:8828-1729710000-1729717200@casualfridaywines.com
SUMMARY:Fall Foods & Wine Pairing
DESCRIPTION:Cooler weather and seasonal delights have arrived! Join us for a special pairing of 5 wines with 5 Fall inspired small bites
URL:https://casualfridaywines.com/event/fall-food-and-wine-pairing/
END:VEVENT
BEGIN:VEVENT
DTSTART;TZID=America/Chicago:20241018T190000
DTEND;TZID=America/Chicago:20241018T220000
DTSTAMP:20260425T194210
CREATED:20241015T140635Z
LAST-MODIFIED:20241015T140648Z
UID:8889-1729278000-1729288800@casualfridaywines.com
SUMMARY:Live Music - David White
DESCRIPTION:
URL:https://casualfridaywines.com/event/live-music-david-white-2/
END:VEVENT
BEGIN:VEVENT
DTSTART;TZID=America/Chicago:20241011T190000
DTEND;TZID=America/Chicago:20241011T220000
DTSTAMP:20260425T194210
CREATED:20240930T170537Z
LAST-MODIFIED:20240930T170548Z
UID:8864-1728673200-1728684000@casualfridaywines.com
SUMMARY:Live Music - The Pour Brothers
DESCRIPTION:
URL:https://casualfridaywines.com/event/live-music-the-pour-brothers/
END:VEVENT
BEGIN:VEVENT
DTSTART;TZID=America/Chicago:20241004T190000
DTEND;TZID=America/Chicago:20241004T220000
DTSTAMP:20260425T194210
CREATED:20240924T173058Z
LAST-MODIFIED:20240924T173107Z
UID:8850-1728068400-1728079200@casualfridaywines.com
SUMMARY:Live Music - Glenn McLaughlin & Jess Meador
DESCRIPTION:
URL:https://casualfridaywines.com/event/live-music-glenn-mclaughlin-jess-meador/
END:VEVENT
BEGIN:VEVENT
DTSTART;TZID=America/Chicago:20241004T130000
DTEND;TZID=America/Chicago:20241102T200000
DTSTAMP:20260425T194210
CREATED:20240924T172639Z
LAST-MODIFIED:20241029T153916Z
UID:8845-1728046800-1730577600@casualfridaywines.com
SUMMARY:Halloween Candy & Wine Pairing
DESCRIPTION:5 Halloween favorites paired with 5 wines\, $20 \nSpooktacular!
URL:https://casualfridaywines.com/event/halloween-candy-wine-pairing/
END:VEVENT
BEGIN:VEVENT
DTSTART;TZID=America/Chicago:20241002T170000
DTEND;TZID=America/Chicago:20241002T200000
DTSTAMP:20260425T194210
CREATED:20240924T172202Z
LAST-MODIFIED:20240924T172202Z
UID:8839-1727888400-1727899200@casualfridaywines.com
SUMMARY:Food Truck - Cousins Maine Lobster
DESCRIPTION:
URL:https://casualfridaywines.com/event/food-truck-cousins-maine-lobster-2/
END:VEVENT
BEGIN:VEVENT
DTSTART;TZID=America/Chicago:20240927T190000
DTEND;TZID=America/Chicago:20240927T220000
DTSTAMP:20260425T194210
CREATED:20240924T173017Z
LAST-MODIFIED:20240924T173017Z
UID:8848-1727463600-1727474400@casualfridaywines.com
SUMMARY:Live Music - Cadillac Johnson & Steve Hill
DESCRIPTION:
URL:https://casualfridaywines.com/event/live-music-cadillac-johnson-steve-hill-2/
END:VEVENT
END:VCALENDAR